BEGIN:VCALENDAR
VERSION:2.0
PRODID:-//Maura Rickenbach - Cellist - ECPv6.15.13//NONSGML v1.0//EN
CALSCALE:GREGORIAN
METHOD:PUBLISH
X-WR-CALNAME:Maura Rickenbach - Cellist
X-ORIGINAL-URL:https://maurarickenbach.com
X-WR-CALDESC:Events for Maura Rickenbach - Cellist
REFRESH-INTERVAL;VALUE=DURATION:PT1H
X-Robots-Tag:noindex
X-PUBLISHED-TTL:PT1H
BEGIN:VTIMEZONE
TZID:Europe/Zurich
BEGIN:DAYLIGHT
TZOFFSETFROM:+0100
TZOFFSETTO:+0200
TZNAME:CEST
DTSTART:20250330T010000
END:DAYLIGHT
BEGIN:STANDARD
TZOFFSETFROM:+0200
TZOFFSETTO:+0100
TZNAME:CET
DTSTART:20251026T010000
END:STANDARD
BEGIN:DAYLIGHT
TZOFFSETFROM:+0100
TZOFFSETTO:+0200
TZNAME:CEST
DTSTART:20260329T010000
END:DAYLIGHT
BEGIN:STANDARD
TZOFFSETFROM:+0200
TZOFFSETTO:+0100
TZNAME:CET
DTSTART:20261025T010000
END:STANDARD
BEGIN:DAYLIGHT
TZOFFSETFROM:+0100
TZOFFSETTO:+0200
TZNAME:CEST
DTSTART:20270328T010000
END:DAYLIGHT
BEGIN:STANDARD
TZOFFSETFROM:+0200
TZOFFSETTO:+0100
TZNAME:CET
DTSTART:20271031T010000
END:STANDARD
END:VTIMEZONE
BEGIN:VEVENT
DTSTART;TZID=Europe/Zurich:20260117T100000
DTEND;TZID=Europe/Zurich:20260117T190000
DTSTAMP:20260422T011142
CREATED:20251225T184717Z
LAST-MODIFIED:20251225T184717Z
UID:351-1768644000-1768676400@maurarickenbach.com
SUMMARY:La 12e Biennale de Quatuors à cordes - Philharmonie de Paris
DESCRIPTION:Turicum Quartet
URL:https://maurarickenbach.com/event/la-12e-biennale-de-quatuors-a-cordes-philharmonie-de-paris/
LOCATION:Philharmonie de Paris – Cité de la musique\, 221 avenue Jean-Jaurès\, Paris\, 75019\, France
END:VEVENT
END:VCALENDAR