BEGIN:VCALENDAR
VERSION:2.0
PRODID:-//Maura Rickenbach - Cellist - ECPv6.15.13//NONSGML v1.0//EN
CALSCALE:GREGORIAN
METHOD:PUBLISH
X-WR-CALNAME:Maura Rickenbach - Cellist
X-ORIGINAL-URL:https://maurarickenbach.com
X-WR-CALDESC:Events for Maura Rickenbach - Cellist
REFRESH-INTERVAL;VALUE=DURATION:PT1H
X-Robots-Tag:noindex
X-PUBLISHED-TTL:PT1H
BEGIN:VTIMEZONE
TZID:Europe/Zurich
BEGIN:DAYLIGHT
TZOFFSETFROM:+0100
TZOFFSETTO:+0200
TZNAME:CEST
DTSTART:20250330T010000
END:DAYLIGHT
BEGIN:STANDARD
TZOFFSETFROM:+0200
TZOFFSETTO:+0100
TZNAME:CET
DTSTART:20251026T010000
END:STANDARD
BEGIN:DAYLIGHT
TZOFFSETFROM:+0100
TZOFFSETTO:+0200
TZNAME:CEST
DTSTART:20260329T010000
END:DAYLIGHT
BEGIN:STANDARD
TZOFFSETFROM:+0200
TZOFFSETTO:+0100
TZNAME:CET
DTSTART:20261025T010000
END:STANDARD
BEGIN:DAYLIGHT
TZOFFSETFROM:+0100
TZOFFSETTO:+0200
TZNAME:CEST
DTSTART:20270328T010000
END:DAYLIGHT
BEGIN:STANDARD
TZOFFSETFROM:+0200
TZOFFSETTO:+0100
TZNAME:CET
DTSTART:20271031T010000
END:STANDARD
END:VTIMEZONE
BEGIN:VEVENT
DTSTART;TZID=Europe/Zurich:20260607T193000
DTEND;TZID=Europe/Zurich:20260607T213000
DTSTAMP:20260422T020136
CREATED:20251229T174403Z
LAST-MODIFIED:20251229T174403Z
UID:409-1780860600-1780867800@maurarickenbach.com
SUMMARY:Cello Unlimited - Dresdner Musikfestspiele
DESCRIPTION:KIAN SOLTANI VIOLONCELLO\nCELLISTINNEN UND CELLISTEN \nHans Zimmer from »Pirates of the Caribbean« and »Da Vinci Code«\nHoward Shore from »Lord of the Rings«\nReinhold Heil\, Johnny Klimek\, Tom Tykwer »Love and Death« from »Perfume«\nKian Soltani »Cello Unlimited«
URL:https://maurarickenbach.com/event/cello-unlimited-dresdner-musikfestspiele/
LOCATION:Schauburg\, Dresden\, Königsbrücker Straße 55\, Dresden\, 01099\, Germany
END:VEVENT
BEGIN:VEVENT
DTSTART;TZID=Europe/Zurich:20260322T190000
DTEND;TZID=Europe/Zurich:20260322T210000
DTSTAMP:20260422T020136
CREATED:20251229T171723Z
LAST-MODIFIED:20251229T174939Z
UID:402-1774206000-1774213200@maurarickenbach.com
SUMMARY:ECMA Showcase - Turicum Quartet
DESCRIPTION:European Chamber Music Academy (ECMA) Showcase \nLudwig van Beethoven\nString Quartet No. 14 in C-sharp minor\, Op. 131 \n  \n  \nTuricum Quartet
URL:https://maurarickenbach.com/event/turicum-quartet/
LOCATION:Liszt Ferenc Academy of Music\, Budapest\, Liszt Ferenc tér 8\, Budapest\, 1061\, Hungary
END:VEVENT
BEGIN:VEVENT
DTSTART;TZID=Europe/Zurich:20260306T193000
DTEND;TZID=Europe/Zurich:20260306T213000
DTSTAMP:20260422T020136
CREATED:20251229T170640Z
LAST-MODIFIED:20260106T173733Z
UID:399-1772825400-1772832600@maurarickenbach.com
SUMMARY:Tonhalle Orchester Zürich
DESCRIPTION:Tonhalle-Orchester Zürich\nFranz Welser-Möst Conductor\n\nThomas Adès «The Exterminating Angel Symphony»\nPause\nRichard Strauss Suite from «Der Rosenkavalier»
URL:https://maurarickenbach.com/event/tonhalle-orchester-zurich-4/
LOCATION:Tonhalle Zürich\, Claridenstrasse 7\, Zürich\, 8002\, Switzerland
END:VEVENT
BEGIN:VEVENT
DTSTART;TZID=Europe/Zurich:20260305T193000
DTEND;TZID=Europe/Zurich:20260305T213000
DTSTAMP:20260422T020136
CREATED:20251227T140625Z
LAST-MODIFIED:20260106T173712Z
UID:395-1772739000-1772746200@maurarickenbach.com
SUMMARY:Tonhalle Orchester Zürich
DESCRIPTION:Tonhalle-Orchester Zürich\nFranz Welser-Möst Leitung \n\nThomas Adès «The Exterminating Angel Symphony»\nPause\nRichard Strauss Suite from «Der Rosenkavalier»
URL:https://maurarickenbach.com/event/tonhalle-orchester-zurich-3/
LOCATION:Tonhalle Zürich\, Claridenstrasse 7\, Zürich\, 8002\, Switzerland
END:VEVENT
BEGIN:VEVENT
DTSTART;TZID=Europe/Zurich:20260304T193000
DTEND;TZID=Europe/Zurich:20260304T213000
DTSTAMP:20260422T020136
CREATED:20251227T135931Z
LAST-MODIFIED:20260106T173600Z
UID:393-1772652600-1772659800@maurarickenbach.com
SUMMARY:Tonhalle Orchester Zürich
DESCRIPTION:Tonhalle-Orchester Zürich\nFranz Welser-Möst Conductor\n\nThomas Adès «The Exterminating Angel Symphony»\nPause\nRichard Strauss Suite from «Der Rosenkavalier»
URL:https://maurarickenbach.com/event/tonhalle-orchester-zurich-2/
LOCATION:Tonhalle Zürich\, Claridenstrasse 7\, Zürich\, 8002\, Switzerland
END:VEVENT
BEGIN:VEVENT
DTSTART;TZID=Europe/Zurich:20260220T193000
DTEND;TZID=Europe/Zurich:20260220T213000
DTSTAMP:20260422T020136
CREATED:20251227T135703Z
LAST-MODIFIED:20260106T173646Z
UID:390-1771615800-1771623000@maurarickenbach.com
SUMMARY:Tonhalle Orchester Zürich
DESCRIPTION:Tonhalle-Orchester Zürich\nPierre-André Valade Conductor \nLeila Josefowicz Violin\n\nHannah Kendall «O Flower of Fire» – Schweizer Erstaufführung\nThomas Adès Violinkonzert \n«Concentric Paths» op. 23\nUnsuk Chin «Alaraph – ‹Ritus des Herzschlags›»
URL:https://maurarickenbach.com/event/tonhalle-orchester-zurich/
LOCATION:Tonhalle Zürich\, Claridenstrasse 7\, Zürich\, 8002\, Switzerland
END:VEVENT
BEGIN:VEVENT
DTSTART;TZID=Europe/Zurich:20260117T100000
DTEND;TZID=Europe/Zurich:20260117T190000
DTSTAMP:20260422T020136
CREATED:20251225T184717Z
LAST-MODIFIED:20251225T184717Z
UID:351-1768644000-1768676400@maurarickenbach.com
SUMMARY:La 12e Biennale de Quatuors à cordes - Philharmonie de Paris
DESCRIPTION:Turicum Quartet
URL:https://maurarickenbach.com/event/la-12e-biennale-de-quatuors-a-cordes-philharmonie-de-paris/
LOCATION:Philharmonie de Paris – Cité de la musique\, 221 avenue Jean-Jaurès\, Paris\, 75019\, France
END:VEVENT
END:VCALENDAR